BEGIN:VCALENDAR
VERSION:2.0
PRODID:-//The Battle of Worcester Society
CALSCALE:GREGORIAN
METHOD:PUBLISH
X-WR-CALNAME:The Battle of Worcester Society
X-ORIGINAL-URL:https://thebattleofworcestersociety.com/product/impeachment-the-stuarts-and-the-road-to-the-english-civil-war/
X-WR-CALDESC:Impeachment, the Stuarts and the Road to the English Civil War
BEGIN:VEVENT
DTSTART;TZID=Europe/London:20220719T190000
DTEND;TZID=Europe/London:20220719T210000
SUMMARY:Impeachment, the Stuarts and the Road to the English Civil War
DESCRIPTION:Dr Chris Monaghan, of the University of Worcester. If you have wondered why or how the English Civil war started, Chris will tell you all about it.
URL:https://thebattleofworcestersociety.com/product/impeachment-the-stuarts-and-the-road-to-the-english-civil-war/
LOCATION:The Great Hall, The Commandery, Sidbury, Worcester WR1 2HU
END:VEVENT
END:VCALENDAR
