BEGIN:VCALENDAR
VERSION:2.0
PRODID:-//The Battle of Worcester Society
CALSCALE:GREGORIAN
METHOD:PUBLISH
X-WR-CALNAME:The Battle of Worcester Society
X-ORIGINAL-URL:https://thebattleofworcestersociety.com/product/drumhead-parade-2013/
X-WR-CALDESC:Drumhead Parade 2013
BEGIN:VEVENT
DTSTART;TZID=Europe/London:20130914T000000
DTEND;TZID=Europe/London:20130914T000000
SUMMARY:Drumhead Parade 2013
DESCRIPTION:
URL:https://thebattleofworcestersociety.com/product/drumhead-parade-2013/
LOCATION:
END:VEVENT
END:VCALENDAR
