BEGIN:VCALENDAR
VERSION:2.0
PRODID:-//The Battle of Worcester Society
CALSCALE:GREGORIAN
METHOD:PUBLISH
X-WR-CALNAME:The Battle of Worcester Society
X-ORIGINAL-URL:https://thebattleofworcestersociety.com/product/war-trauma-and-the-quarkers-in-worcestershire/
X-WR-CALDESC:War, Trauma and the Quakers in Worcestershire
BEGIN:VEVENT
DTSTART;TZID=Europe/London:20250529T190000
DTEND;TZID=Europe/London:20250529T201500
SUMMARY:War, Trauma and the Quakers in Worcestershire
DESCRIPTION:
URL:https://thebattleofworcestersociety.com/product/war-trauma-and-the-quarkers-in-worcestershire/
LOCATION:The Great Hall, The Commandery, Sidbury, Worcester WR1 2HU
END:VEVENT
END:VCALENDAR
