BEGIN:VCALENDAR
VERSION:2.0
PRODID:-//The Battle of Worcester Society
CALSCALE:GREGORIAN
METHOD:PUBLISH
X-WR-CALNAME:The Battle of Worcester Society
X-ORIGINAL-URL:https://thebattleofworcestersociety.com/product/prince-rupert/
X-WR-CALDESC:Prince Rupert of the Rhine
BEGIN:VEVENT
DTSTART;TZID=Europe/London:20251127T183000
DTEND;TZID=Europe/London:20251127T201500
SUMMARY:Prince Rupert of the Rhine
DESCRIPTION:Mark Turnbull cuts through centuries of myth &amp; propaganda to reveal Prince Rupert as he truly was: brilliant, ruthless, human, and flawed. New sources, decoded letters, forgotten voices. Join us as Mark brings Rupert to life. This isn’t just biography, it’s history rewritten
URL:https://thebattleofworcestersociety.com/product/prince-rupert/
LOCATION:The Glass Room, The Hive, Worcester
END:VEVENT
END:VCALENDAR
