BEGIN:VCALENDAR
VERSION:2.0
PRODID:-//The Battle of Worcester Society
CALSCALE:GREGORIAN
METHOD:PUBLISH
X-WR-CALNAME:The Battle of Worcester Society
X-ORIGINAL-URL:https://thebattleofworcestersociety.com/product/reopening-of-the-commandery/
X-WR-CALDESC:Reopening of the Commandery
BEGIN:VEVENT
DTSTART;TZID=Europe/London:20170716T000000
DTEND;TZID=Europe/London:20170716T000000
SUMMARY:Reopening of the Commandery
DESCRIPTION:
URL:https://thebattleofworcestersociety.com/product/reopening-of-the-commandery/
LOCATION:
END:VEVENT
END:VCALENDAR
