BEGIN:VCALENDAR
VERSION:2.0
PRODID:-//The Battle of Worcester Society
CALSCALE:GREGORIAN
METHOD:PUBLISH
X-WR-CALNAME:The Battle of Worcester Society
X-ORIGINAL-URL:https://thebattleofworcestersociety.com/product/worcester-cathedrals-medieval-library/
X-WR-CALDESC:Worcester Cathedral’s Medieval Library
BEGIN:VEVENT
DTSTART;TZID=Europe/London:20230222T103000
DTEND;TZID=Europe/London:20230222T000000
SUMMARY:Worcester Cathedral’s Medieval Library
DESCRIPTION:A visit to Worcester Cathedral’s Medieval Library has been arranged for members only.  Worcester Cathedral Library contains nearly 300 medieval manuscripts, 5,500 printed books, and 20,000 archival documents. Dr David Morrison will arrange for us to look specifically at Civil War material.
URL:https://thebattleofworcestersociety.com/product/worcester-cathedrals-medieval-library/
LOCATION:Worcester Cathedral, 8 College Yard, Worcester WR1 2LA
END:VEVENT
END:VCALENDAR
